BEGIN:VCALENDAR
VERSION:2.0
PRODID:-//Steelband Tavenu - ECPv6.15.13.1//NONSGML v1.0//EN
CALSCALE:GREGORIAN
METHOD:PUBLISH
X-ORIGINAL-URL:http://steelband-tavenu.nl
X-WR-CALDESC:Evenementen voor Steelband Tavenu
REFRESH-INTERVAL;VALUE=DURATION:PT1H
X-Robots-Tag:noindex
X-PUBLISHED-TTL:PT1H
BEGIN:VTIMEZONE
TZID:UTC
BEGIN:STANDARD
TZOFFSETFROM:+0000
TZOFFSETTO:+0000
TZNAME:UTC
DTSTART:20130101T000000
END:STANDARD
END:VTIMEZONE
BEGIN:VEVENT
DTSTART;TZID=UTC:20160618T200000
DTEND;TZID=UTC:20160618T200000
DTSTAMP:20260422T130638
CREATED:20190130T131016Z
LAST-MODIFIED:20190130T131412Z
UID:11163-1466280000-1466280000@steelband-tavenu.nl
SUMMARY:Midzomeravond 2016
DESCRIPTION:
URL:http://steelband-tavenu.nl/tourschema/midzomeravond-2016/
LOCATION:De Kwakel – centrum
CATEGORIES:steelband
END:VEVENT
BEGIN:VEVENT
DTSTART;TZID=UTC:20160427T100000
DTEND;TZID=UTC:20160427T100000
DTSTAMP:20260422T130638
CREATED:20190130T130915Z
LAST-MODIFIED:20190130T130915Z
UID:11161-1461751200-1461751200@steelband-tavenu.nl
SUMMARY:Koningsdag 2016
DESCRIPTION:
URL:http://steelband-tavenu.nl/tourschema/koningsdag-2016/
LOCATION:De Kwakel – centrum
CATEGORIES:loop steelband
END:VEVENT
BEGIN:VEVENT
DTSTART;TZID=UTC:20160417T160000
DTEND;TZID=UTC:20160417T160000
DTSTAMP:20260422T130638
CREATED:20190130T130811Z
LAST-MODIFIED:20190130T130811Z
UID:11159-1460908800-1460908800@steelband-tavenu.nl
SUMMARY:Huldiging selectie Legmeervogels
DESCRIPTION:
URL:http://steelband-tavenu.nl/tourschema/huldiging-selectie-legmeervogels/
LOCATION:Uithoorn
CATEGORIES:loop steelband
END:VEVENT
BEGIN:VEVENT
DTSTART;TZID=UTC:20160319T200000
DTEND;TZID=UTC:20160319T200000
DTSTAMP:20260422T130638
CREATED:20180719T074942Z
LAST-MODIFIED:20180719T074942Z
UID:11005-1458417600-1458417600@steelband-tavenu.nl
SUMMARY:Jaarconcert Harmonie Beusichem
DESCRIPTION:
URL:http://steelband-tavenu.nl/tourschema/jaarconcert-harmonie-beusichem-2/
LOCATION:Beusichem
CATEGORIES:steelband
END:VEVENT
BEGIN:VEVENT
DTSTART;TZID=UTC:20160318T200000
DTEND;TZID=UTC:20160318T200000
DTSTAMP:20260422T130638
CREATED:20180719T074806Z
LAST-MODIFIED:20180719T074806Z
UID:11002-1458331200-1458331200@steelband-tavenu.nl
SUMMARY:Jaarconcert Harmonie Beusichem
DESCRIPTION:
URL:http://steelband-tavenu.nl/tourschema/jaarconcert-harmonie-beusichem/
LOCATION:Beusichem
CATEGORIES:steelband
END:VEVENT
BEGIN:VEVENT
DTSTART;TZID=UTC:20151219T193000
DTEND;TZID=UTC:20151219T193000
DTSTAMP:20260422T130638
CREATED:20200622T141528Z
LAST-MODIFIED:20200622T141528Z
UID:11675-1450553400-1450553400@steelband-tavenu.nl
SUMMARY:Kerstconcert 2015
DESCRIPTION:
URL:http://steelband-tavenu.nl/tourschema/kerstconcert-2015/
LOCATION:De Kwakel – dorpshuis
CATEGORIES:steelband
END:VEVENT
BEGIN:VEVENT
DTSTART;TZID=UTC:20151211T190000
DTEND;TZID=UTC:20151211T190000
DTSTAMP:20260422T130638
CREATED:20200622T141412Z
LAST-MODIFIED:20200622T141412Z
UID:11673-1449860400-1449860400@steelband-tavenu.nl
SUMMARY:Gevelconcert
DESCRIPTION:
URL:http://steelband-tavenu.nl/tourschema/gevelconcert/
LOCATION:Lisse
CATEGORIES:steelband
END:VEVENT
BEGIN:VEVENT
DTSTART;TZID=UTC:20151121T130000
DTEND;TZID=UTC:20151121T160000
DTSTAMP:20260422T130638
CREATED:20200622T141311Z
LAST-MODIFIED:20200622T141311Z
UID:11671-1448110800-1448121600@steelband-tavenu.nl
SUMMARY:Sinterklaas Intocht Baarn 2015
DESCRIPTION:
URL:http://steelband-tavenu.nl/tourschema/sinterklaas-intocht-baarn-2015/
LOCATION:Baarn
CATEGORIES:pieten steelband
END:VEVENT
BEGIN:VEVENT
DTSTART;TZID=UTC:20151114T180000
DTEND;TZID=UTC:20151114T193000
DTSTAMP:20260422T130638
CREATED:20200622T141206Z
LAST-MODIFIED:20200622T141206Z
UID:11669-1447524000-1447529400@steelband-tavenu.nl
SUMMARY:Sinterklaas Intocht De Kwakel 2015
DESCRIPTION:
URL:http://steelband-tavenu.nl/tourschema/sinterklaas-intocht-de-kwakel-2015/
LOCATION:De Kwakel
CATEGORIES:pieten steelband
END:VEVENT
BEGIN:VEVENT
DTSTART;TZID=UTC:20151114T113000
DTEND;TZID=UTC:20151114T140000
DTSTAMP:20260422T130638
CREATED:20200622T141112Z
LAST-MODIFIED:20200622T141112Z
UID:11667-1447500600-1447509600@steelband-tavenu.nl
SUMMARY:Sinterklaas Intocht Amstelveen 2015
DESCRIPTION:
URL:http://steelband-tavenu.nl/tourschema/sinterklaas-intocht-amstelveen-2015/
LOCATION:Amstelveen
CATEGORIES:pieten steelband
END:VEVENT
BEGIN:VEVENT
DTSTART;TZID=UTC:20150908T090000
DTEND;TZID=UTC:20150908T160000
DTSTAMP:20260422T130638
CREATED:20200622T140955Z
LAST-MODIFIED:20200622T140955Z
UID:11665-1441702800-1441728000@steelband-tavenu.nl
SUMMARY:Kermis Optocht 2015
DESCRIPTION:
URL:http://steelband-tavenu.nl/tourschema/kermis-optocht-2015/
LOCATION:De Kwakel
CATEGORIES:rijdende steelband
END:VEVENT
BEGIN:VEVENT
DTSTART;TZID=UTC:20150906T130000
DTEND;TZID=UTC:20150906T153000
DTSTAMP:20260422T130638
CREATED:20200622T140904Z
LAST-MODIFIED:20200622T140904Z
UID:11663-1441544400-1441553400@steelband-tavenu.nl
SUMMARY:Kinderoptocht 2015
DESCRIPTION:
URL:http://steelband-tavenu.nl/tourschema/kinderoptocht-2015/
LOCATION:De Kwakel
CATEGORIES:rijdende steelband
END:VEVENT
BEGIN:VEVENT
DTSTART;TZID=UTC:20150704T190000
DTEND;TZID=UTC:20150704T190000
DTSTAMP:20260422T130638
CREATED:20200622T140800Z
LAST-MODIFIED:20200622T140800Z
UID:11660-1436036400-1436036400@steelband-tavenu.nl
SUMMARY:Besloten feestje
DESCRIPTION:
URL:http://steelband-tavenu.nl/tourschema/besloten-feestje/
LOCATION:Leiden
CATEGORIES:loop steelband
END:VEVENT
BEGIN:VEVENT
DTSTART;TZID=UTC:20150626T190000
DTEND;TZID=UTC:20150626T190000
DTSTAMP:20260422T130638
CREATED:20200622T140655Z
LAST-MODIFIED:20200622T140655Z
UID:11657-1435345200-1435345200@steelband-tavenu.nl
SUMMARY:Zomermarkt Nieuwveen
DESCRIPTION:
URL:http://steelband-tavenu.nl/tourschema/zomermarkt-nieuwveen/
LOCATION:Nieuwveen
CATEGORIES:loop steelband
END:VEVENT
BEGIN:VEVENT
DTSTART;TZID=UTC:20150620T193000
DTEND;TZID=UTC:20150620T193000
DTSTAMP:20260422T130638
CREATED:20200622T140553Z
LAST-MODIFIED:20200622T140553Z
UID:11655-1434828600-1434828600@steelband-tavenu.nl
SUMMARY:Midzomeravond Festival 2015
DESCRIPTION:
URL:http://steelband-tavenu.nl/tourschema/midzomeravond-festival-2015/
LOCATION:De Kwakel – centrum
CATEGORIES:steelband
END:VEVENT
BEGIN:VEVENT
DTSTART;TZID=UTC:20150620T160000
DTEND;TZID=UTC:20150620T160000
DTSTAMP:20260422T130638
CREATED:20200622T140439Z
LAST-MODIFIED:20200622T140439Z
UID:11652-1434816000-1434816000@steelband-tavenu.nl
SUMMARY:Promotie Actie AH Amstelplein
DESCRIPTION:
URL:http://steelband-tavenu.nl/tourschema/promotie-actie-ah-amstelplein/
LOCATION:Uithoorn – Amstelplein
CATEGORIES:loop steelband
END:VEVENT
BEGIN:VEVENT
DTSTART;TZID=UTC:20150530T130000
DTEND;TZID=UTC:20150530T130000
DTSTAMP:20260422T130638
CREATED:20200622T140247Z
LAST-MODIFIED:20200622T140247Z
UID:11649-1432990800-1432990800@steelband-tavenu.nl
SUMMARY:Opening nieuwe winkel Duo Plant
DESCRIPTION:
URL:http://steelband-tavenu.nl/tourschema/opening-nieuwe-winkel-duo-plant/
LOCATION:Uithoorn – oude dorp
CATEGORIES:loop steelband
END:VEVENT
BEGIN:VEVENT
DTSTART;TZID=UTC:20150427T100000
DTEND;TZID=UTC:20150427T100000
DTSTAMP:20260422T130638
CREATED:20200622T135844Z
LAST-MODIFIED:20200622T140039Z
UID:11647-1430128800-1430128800@steelband-tavenu.nl
SUMMARY:Koningsdag 2015
DESCRIPTION:
URL:http://steelband-tavenu.nl/tourschema/koningsdag-2015/
LOCATION:De Kwakel – centrum
CATEGORIES:loop steelband
END:VEVENT
BEGIN:VEVENT
DTSTART;TZID=UTC:20150314T200000
DTEND;TZID=UTC:20150314T210000
DTSTAMP:20260422T130638
CREATED:20200622T135610Z
LAST-MODIFIED:20200630T134420Z
UID:11643-1426363200-1426366800@steelband-tavenu.nl
SUMMARY:Verjaardagsfeest 60-jarige
DESCRIPTION:verrassingsfeestje voor Jan
URL:http://steelband-tavenu.nl/tourschema/verjaardagsfeest-60-jarige/
LOCATION:Vrouwenakker
CATEGORIES:loop steelband
END:VEVENT
BEGIN:VEVENT
DTSTART;TZID=UTC:20141129T100000
DTEND;TZID=UTC:20141129T170000
DTSTAMP:20260422T130638
CREATED:20200630T133659Z
LAST-MODIFIED:20200630T133659Z
UID:11715-1417255200-1417280400@steelband-tavenu.nl
SUMMARY:Sinterklaasviering Gevangenis
DESCRIPTION:
URL:http://steelband-tavenu.nl/tourschema/sinterklaasviering-gevangenis/
LOCATION:Alphen a/d Rijn
CATEGORIES:pieten steelband
END:VEVENT
BEGIN:VEVENT
DTSTART;TZID=UTC:20141122T130000
DTEND;TZID=UTC:20141122T160000
DTSTAMP:20260422T130638
CREATED:20200630T133518Z
LAST-MODIFIED:20200630T133518Z
UID:11713-1416661200-1416672000@steelband-tavenu.nl
SUMMARY:Sinterklaas Intocht Baarn 2014
DESCRIPTION:
URL:http://steelband-tavenu.nl/tourschema/sinterklaas-intocht-baarn-2014/
LOCATION:Baarn
CATEGORIES:pieten steelband
END:VEVENT
BEGIN:VEVENT
DTSTART;TZID=UTC:20141115T180000
DTEND;TZID=UTC:20141115T193000
DTSTAMP:20260422T130638
CREATED:20200630T133420Z
LAST-MODIFIED:20200630T133420Z
UID:11711-1416074400-1416079800@steelband-tavenu.nl
SUMMARY:Sinterklaas Intocht De Kwakel 2014
DESCRIPTION:
URL:http://steelband-tavenu.nl/tourschema/sinterklaas-intocht-de-kwakel-2014/
LOCATION:De Kwakel
CATEGORIES:pieten steelband
END:VEVENT
BEGIN:VEVENT
DTSTART;TZID=UTC:20141115T113000
DTEND;TZID=UTC:20141115T140000
DTSTAMP:20260422T130638
CREATED:20200630T133321Z
LAST-MODIFIED:20200630T133321Z
UID:11709-1416051000-1416060000@steelband-tavenu.nl
SUMMARY:Sinterklaas Intocht Amstelveen 2014
DESCRIPTION:
URL:http://steelband-tavenu.nl/tourschema/sinterklaas-intocht-amstelveen-2014/
LOCATION:Amstelveen
CATEGORIES:pieten steelband
END:VEVENT
BEGIN:VEVENT
DTSTART;TZID=UTC:20141019T120000
DTEND;TZID=UTC:20141019T120000
DTSTAMP:20260422T130638
CREATED:20200630T133209Z
LAST-MODIFIED:20200630T133209Z
UID:11707-1413720000-1413720000@steelband-tavenu.nl
SUMMARY:Afscheidsconcert Drumband Tavenu
DESCRIPTION:
URL:http://steelband-tavenu.nl/tourschema/afscheidsconcert-drumband-tavenu/
LOCATION:De Kwakel – dorpshuis
CATEGORIES:steelband
END:VEVENT
BEGIN:VEVENT
DTSTART;TZID=UTC:20140902T090000
DTEND;TZID=UTC:20140902T090000
DTSTAMP:20260422T130638
CREATED:20200630T133107Z
LAST-MODIFIED:20200630T133107Z
UID:11705-1409648400-1409648400@steelband-tavenu.nl
SUMMARY:Kermis Optocht 2014
DESCRIPTION:
URL:http://steelband-tavenu.nl/tourschema/kermis-optocht-2014/
LOCATION:De Kwakel
CATEGORIES:rijdende steelband
END:VEVENT
BEGIN:VEVENT
DTSTART;TZID=UTC:20140816T080000
DTEND;TZID=UTC:20140816T233000
DTSTAMP:20260422T130638
CREATED:20200630T133002Z
LAST-MODIFIED:20200630T133002Z
UID:11702-1408176000-1408231800@steelband-tavenu.nl
SUMMARY:Tavenu Trein Tour
DESCRIPTION:treinreis van Hoofddorp naar Groningen met tussenstops om te spelen in:\n– Amsterdam CS\n– Almere Centrum\n– Lelystad\n– Zwolle\n– Assen\n– Groningen
URL:http://steelband-tavenu.nl/tourschema/tavenu-trein-tour/
LOCATION:Trein van Hoofddorp naar Groningen
CATEGORIES:loop steelband
END:VEVENT
BEGIN:VEVENT
DTSTART;TZID=UTC:20140704T180000
DTEND;TZID=UTC:20140704T180000
DTSTAMP:20260422T130638
CREATED:20200630T121052Z
LAST-MODIFIED:20200630T121052Z
UID:11698-1404496800-1404496800@steelband-tavenu.nl
SUMMARY:Bedrijfsfeest
DESCRIPTION:Stam IJzerwaren
URL:http://steelband-tavenu.nl/tourschema/bedrijfsfeest/
LOCATION:Mijdrecht
CATEGORIES:steelband
END:VEVENT
BEGIN:VEVENT
DTSTART;TZID=UTC:20140621T193000
DTEND;TZID=UTC:20140621T193000
DTSTAMP:20260422T130638
CREATED:20200630T120843Z
LAST-MODIFIED:20200630T120843Z
UID:11696-1403379000-1403379000@steelband-tavenu.nl
SUMMARY:Midzomeravond Festival 2014
DESCRIPTION:
URL:http://steelband-tavenu.nl/tourschema/midzomeravond-festival-2014/
LOCATION:De Kwakel – centrum
CATEGORIES:steelband
END:VEVENT
BEGIN:VEVENT
DTSTART;TZID=UTC:20140614T150000
DTEND;TZID=UTC:20140614T150000
DTSTAMP:20260422T130638
CREATED:20200630T120734Z
LAST-MODIFIED:20200630T120734Z
UID:11693-1402758000-1402758000@steelband-tavenu.nl
SUMMARY:Privé feestje
DESCRIPTION:
URL:http://steelband-tavenu.nl/tourschema/prive-feestje-3/
LOCATION:Schoorl
CATEGORIES:steelband
END:VEVENT
BEGIN:VEVENT
DTSTART;TZID=UTC:20140607T130000
DTEND;TZID=UTC:20140607T130000
DTSTAMP:20260422T130638
CREATED:20200630T120623Z
LAST-MODIFIED:20200630T120623Z
UID:11690-1402146000-1402146000@steelband-tavenu.nl
SUMMARY:Shanty Festival
DESCRIPTION:
URL:http://steelband-tavenu.nl/tourschema/shanty-festival/
LOCATION:Lunteren
CATEGORIES:loop steelband
END:VEVENT
END:VCALENDAR