BEGIN:VCALENDAR
VERSION:2.0
PRODID:-//Steelband Tavenu - ECPv6.15.13.1//NONSGML v1.0//EN
CALSCALE:GREGORIAN
METHOD:PUBLISH
X-WR-CALNAME:Steelband Tavenu
X-ORIGINAL-URL:http://steelband-tavenu.nl
X-WR-CALDESC:Evenementen voor Steelband Tavenu
REFRESH-INTERVAL;VALUE=DURATION:PT1H
X-Robots-Tag:noindex
X-PUBLISHED-TTL:PT1H
BEGIN:VTIMEZONE
TZID:UTC
BEGIN:STANDARD
TZOFFSETFROM:+0000
TZOFFSETTO:+0000
TZNAME:UTC
DTSTART:20130101T000000
END:STANDARD
END:VTIMEZONE
BEGIN:VEVENT
DTSTART;TZID=UTC:20150620T160000
DTEND;TZID=UTC:20150620T160000
DTSTAMP:20260420T005120
CREATED:20200622T140439Z
LAST-MODIFIED:20200622T140439Z
UID:11652-1434816000-1434816000@steelband-tavenu.nl
SUMMARY:Promotie Actie AH Amstelplein
DESCRIPTION:
URL:http://steelband-tavenu.nl/tourschema/promotie-actie-ah-amstelplein/
LOCATION:Uithoorn – Amstelplein
CATEGORIES:loop steelband
END:VEVENT
BEGIN:VEVENT
DTSTART;TZID=UTC:20150530T130000
DTEND;TZID=UTC:20150530T130000
DTSTAMP:20260420T005120
CREATED:20200622T140247Z
LAST-MODIFIED:20200622T140247Z
UID:11649-1432990800-1432990800@steelband-tavenu.nl
SUMMARY:Opening nieuwe winkel Duo Plant
DESCRIPTION:
URL:http://steelband-tavenu.nl/tourschema/opening-nieuwe-winkel-duo-plant/
LOCATION:Uithoorn – oude dorp
CATEGORIES:loop steelband
END:VEVENT
BEGIN:VEVENT
DTSTART;TZID=UTC:20150427T100000
DTEND;TZID=UTC:20150427T100000
DTSTAMP:20260420T005120
CREATED:20200622T135844Z
LAST-MODIFIED:20200622T140039Z
UID:11647-1430128800-1430128800@steelband-tavenu.nl
SUMMARY:Koningsdag 2015
DESCRIPTION:
URL:http://steelband-tavenu.nl/tourschema/koningsdag-2015/
LOCATION:De Kwakel – centrum
CATEGORIES:loop steelband
END:VEVENT
BEGIN:VEVENT
DTSTART;TZID=UTC:20150314T200000
DTEND;TZID=UTC:20150314T210000
DTSTAMP:20260420T005120
CREATED:20200622T135610Z
LAST-MODIFIED:20200630T134420Z
UID:11643-1426363200-1426366800@steelband-tavenu.nl
SUMMARY:Verjaardagsfeest 60-jarige
DESCRIPTION:verrassingsfeestje voor Jan
URL:http://steelband-tavenu.nl/tourschema/verjaardagsfeest-60-jarige/
LOCATION:Vrouwenakker
CATEGORIES:loop steelband
END:VEVENT
BEGIN:VEVENT
DTSTART;TZID=UTC:20140816T080000
DTEND;TZID=UTC:20140816T233000
DTSTAMP:20260420T005120
CREATED:20200630T133002Z
LAST-MODIFIED:20200630T133002Z
UID:11702-1408176000-1408231800@steelband-tavenu.nl
SUMMARY:Tavenu Trein Tour
DESCRIPTION:treinreis van Hoofddorp naar Groningen met tussenstops om te spelen in:\n– Amsterdam CS\n– Almere Centrum\n– Lelystad\n– Zwolle\n– Assen\n– Groningen
URL:http://steelband-tavenu.nl/tourschema/tavenu-trein-tour/
LOCATION:Trein van Hoofddorp naar Groningen
CATEGORIES:loop steelband
END:VEVENT
BEGIN:VEVENT
DTSTART;TZID=UTC:20140607T130000
DTEND;TZID=UTC:20140607T130000
DTSTAMP:20260420T005120
CREATED:20200630T120623Z
LAST-MODIFIED:20200630T120623Z
UID:11690-1402146000-1402146000@steelband-tavenu.nl
SUMMARY:Shanty Festival
DESCRIPTION:
URL:http://steelband-tavenu.nl/tourschema/shanty-festival/
LOCATION:Lunteren
CATEGORIES:loop steelband
END:VEVENT
BEGIN:VEVENT
DTSTART;TZID=UTC:20140323T150000
DTEND;TZID=UTC:20140323T150000
DTSTAMP:20260420T005120
CREATED:20200630T120124Z
LAST-MODIFIED:20200630T134612Z
UID:11683-1395586800-1395586800@steelband-tavenu.nl
SUMMARY:Privé feestje
DESCRIPTION:feestje voor Marty
URL:http://steelband-tavenu.nl/tourschema/prive-feestje/
LOCATION:De Kwakel – dorpshuis
CATEGORIES:loop steelband
END:VEVENT
BEGIN:VEVENT
DTSTART;TZID=UTC:20140118T200000
DTEND;TZID=UTC:20140118T200000
DTSTAMP:20260420T005120
CREATED:20200630T115655Z
LAST-MODIFIED:20200630T115655Z
UID:11680-1390075200-1390075200@steelband-tavenu.nl
SUMMARY:Hofkapellen Festival
DESCRIPTION:
URL:http://steelband-tavenu.nl/tourschema/hofkapellen-festival/
LOCATION:Achterveld\, Nederland
CATEGORIES:loop steelband
END:VEVENT
END:VCALENDAR