BEGIN:VCALENDAR
VERSION:2.0
PRODID:-//Steelband Tavenu - ECPv6.15.13.1//NONSGML v1.0//EN
CALSCALE:GREGORIAN
METHOD:PUBLISH
X-WR-CALNAME:Steelband Tavenu
X-ORIGINAL-URL:http://steelband-tavenu.nl
X-WR-CALDESC:Evenementen voor Steelband Tavenu
REFRESH-INTERVAL;VALUE=DURATION:PT1H
X-Robots-Tag:noindex
X-PUBLISHED-TTL:PT1H
BEGIN:VTIMEZONE
TZID:UTC
BEGIN:STANDARD
TZOFFSETFROM:+0000
TZOFFSETTO:+0000
TZNAME:UTC
DTSTART:20130101T000000
END:STANDARD
END:VTIMEZONE
BEGIN:VEVENT
DTSTART;TZID=UTC:20181215T153000
DTEND;TZID=UTC:20181215T161500
DTSTAMP:20260419T215838
CREATED:20181213T223845Z
LAST-MODIFIED:20190130T131733Z
UID:11128-1544887800-1544890500@steelband-tavenu.nl
SUMMARY:Kerst optreden 2 2018
DESCRIPTION:
URL:http://steelband-tavenu.nl/tourschema/kerst-optreden-2/
LOCATION:De Kwakel – centrum
CATEGORIES:loop steelband
END:VEVENT
BEGIN:VEVENT
DTSTART;TZID=UTC:20181215T140000
DTEND;TZID=UTC:20181215T144500
DTSTAMP:20260419T215838
CREATED:20181213T223802Z
LAST-MODIFIED:20190130T131729Z
UID:11126-1544882400-1544885100@steelband-tavenu.nl
SUMMARY:Kerst optreden 1 2018
DESCRIPTION:
URL:http://steelband-tavenu.nl/tourschema/kerst-optreden-1/
LOCATION:De Kwakel – centrum
CATEGORIES:loop steelband
END:VEVENT
BEGIN:VEVENT
DTSTART;TZID=UTC:20181205T090000
DTEND;TZID=UTC:20181205T090000
DTSTAMP:20260419T215838
CREATED:20181213T223245Z
LAST-MODIFIED:20181213T223245Z
UID:11121-1544000400-1544000400@steelband-tavenu.nl
SUMMARY:Sinterklaasviering Basisschool De Zon
DESCRIPTION:
URL:http://steelband-tavenu.nl/tourschema/sinterklaasviering-basisschool-de-zon/
LOCATION:De Kwakel – basisschool De Zon
CATEGORIES:loop steelband,steelband
END:VEVENT
BEGIN:VEVENT
DTSTART;TZID=UTC:20180526T153000
DTEND;TZID=UTC:20180526T153000
DTSTAMP:20260419T215838
CREATED:20180625T155028Z
LAST-MODIFIED:20180625T155028Z
UID:10919-1527348600-1527348600@steelband-tavenu.nl
SUMMARY:Samenloop voor Hoop KWF Kankerbestrijding
DESCRIPTION:
URL:http://steelband-tavenu.nl/tourschema/samenloop-voor-hoop-kwf-kankerbestrijding/
LOCATION:Eastermar
CATEGORIES:loop steelband
END:VEVENT
BEGIN:VEVENT
DTSTART;TZID=UTC:20180427T100000
DTEND;TZID=UTC:20180427T100000
DTSTAMP:20260419T215838
CREATED:20180625T154820Z
LAST-MODIFIED:20180625T161436Z
UID:10917-1524823200-1524823200@steelband-tavenu.nl
SUMMARY:Koningsdag 2018
DESCRIPTION:
URL:http://steelband-tavenu.nl/tourschema/koningsdag-2018/
LOCATION:De Kwakel – centrum
CATEGORIES:loop steelband
END:VEVENT
BEGIN:VEVENT
DTSTART;TZID=UTC:20180418T190000
DTEND;TZID=UTC:20180418T190000
DTSTAMP:20260419T215838
CREATED:20180625T154309Z
LAST-MODIFIED:20180625T154600Z
UID:10915-1524078000-1524078000@steelband-tavenu.nl
SUMMARY:Donateurs Actie
DESCRIPTION:
URL:http://steelband-tavenu.nl/tourschema/donateurs-actie/
LOCATION:De Kwakel
CATEGORIES:loop steelband
END:VEVENT
BEGIN:VEVENT
DTSTART;TZID=UTC:20170716T170000
DTEND;TZID=UTC:20170716T170000
DTSTAMP:20260419T215838
CREATED:20180625T162824Z
LAST-MODIFIED:20200630T134238Z
UID:10943-1500224400-1500224400@steelband-tavenu.nl
SUMMARY:50-jarig Huwelijk
DESCRIPTION:ouders van Remon
URL:http://steelband-tavenu.nl/tourschema/50-jarig-huwelijk/
LOCATION:Lisserbroek
CATEGORIES:loop steelband
END:VEVENT
BEGIN:VEVENT
DTSTART;TZID=UTC:20170606T190000
DTEND;TZID=UTC:20170606T190000
DTSTAMP:20260419T215838
CREATED:20180625T162233Z
LAST-MODIFIED:20180625T162233Z
UID:10937-1496775600-1496775600@steelband-tavenu.nl
SUMMARY:Donateurs Actie
DESCRIPTION:
URL:http://steelband-tavenu.nl/tourschema/donateurs-actie-2/
LOCATION:De Kwakel
CATEGORIES:loop steelband
END:VEVENT
BEGIN:VEVENT
DTSTART;TZID=UTC:20170427T130000
DTEND;TZID=UTC:20170427T130000
DTSTAMP:20260419T215838
CREATED:20180625T161729Z
LAST-MODIFIED:20180625T161729Z
UID:10934-1493298000-1493298000@steelband-tavenu.nl
SUMMARY:Koningsdag 2017
DESCRIPTION:
URL:http://steelband-tavenu.nl/tourschema/koningsdag-2017-2/
LOCATION:Kamerik
CATEGORIES:loop steelband
END:VEVENT
BEGIN:VEVENT
DTSTART;TZID=UTC:20170427T100000
DTEND;TZID=UTC:20170427T100000
DTSTAMP:20260419T215838
CREATED:20180625T161637Z
LAST-MODIFIED:20180625T161637Z
UID:10932-1493287200-1493287200@steelband-tavenu.nl
SUMMARY:Koningsdag 2017
DESCRIPTION:
URL:http://steelband-tavenu.nl/tourschema/koningsdag-2017/
LOCATION:De Kwakel – centrum
CATEGORIES:loop steelband
END:VEVENT
BEGIN:VEVENT
DTSTART;TZID=UTC:20170304T200000
DTEND;TZID=UTC:20170304T200000
DTSTAMP:20260419T215838
CREATED:20180625T160733Z
LAST-MODIFIED:20180625T161502Z
UID:10925-1488657600-1488657600@steelband-tavenu.nl
SUMMARY:Feestavond Heinkelclub
DESCRIPTION:
URL:http://steelband-tavenu.nl/tourschema/feestavond-heinkelclub/
LOCATION:De Kwakel – dorpshuis
CATEGORIES:loop steelband
END:VEVENT
BEGIN:VEVENT
DTSTART;TZID=UTC:20170225T200000
DTEND;TZID=UTC:20170225T200000
DTSTAMP:20260419T215838
CREATED:20180625T160604Z
LAST-MODIFIED:20180625T161526Z
UID:10923-1488052800-1488052800@steelband-tavenu.nl
SUMMARY:25-jarig bestaan Dorpshuis De Quakel
DESCRIPTION:
URL:http://steelband-tavenu.nl/tourschema/25-jarig-bestaan-dorpshuis-de-quakel/
LOCATION:De Kwakel – dorpshuis
CATEGORIES:loop steelband
END:VEVENT
BEGIN:VEVENT
DTSTART;TZID=UTC:20161217T190000
DTEND;TZID=UTC:20161217T190000
DTSTAMP:20260419T215838
CREATED:20190130T150902Z
LAST-MODIFIED:20190130T150902Z
UID:11211-1482001200-1482001200@steelband-tavenu.nl
SUMMARY:Kerstconcert
DESCRIPTION:
URL:http://steelband-tavenu.nl/tourschema/kerstconcert/
LOCATION:De Kwakel – dorpshuis
CATEGORIES:loop steelband
END:VEVENT
BEGIN:VEVENT
DTSTART;TZID=UTC:20161204T170000
DTEND;TZID=UTC:20161204T170000
DTSTAMP:20260419T215838
CREATED:20190130T150958Z
LAST-MODIFIED:20190130T150958Z
UID:11213-1480870800-1480870800@steelband-tavenu.nl
SUMMARY:Optreden Snorrenclub
DESCRIPTION:
URL:http://steelband-tavenu.nl/tourschema/optreden-snorrenclub/
LOCATION:De Kwakel
CATEGORIES:loop steelband
END:VEVENT
BEGIN:VEVENT
DTSTART;TZID=UTC:20161120T130000
DTEND;TZID=UTC:20161120T130000
DTSTAMP:20260419T215838
CREATED:20190130T150814Z
LAST-MODIFIED:20190130T150814Z
UID:11208-1479646800-1479646800@steelband-tavenu.nl
SUMMARY:Optreden Kerstmarkt
DESCRIPTION:
URL:http://steelband-tavenu.nl/tourschema/optreden-kerstmarkt/
LOCATION:Nieuwveen Riga Ranch
CATEGORIES:loop steelband
END:VEVENT
BEGIN:VEVENT
DTSTART;TZID=UTC:20161008T140000
DTEND;TZID=UTC:20161008T140000
DTSTAMP:20260419T215838
CREATED:20190130T150605Z
LAST-MODIFIED:20190130T150605Z
UID:11205-1475935200-1475935200@steelband-tavenu.nl
SUMMARY:Gluren bij de Buren 2016
DESCRIPTION:
URL:http://steelband-tavenu.nl/tourschema/gluren-bij-de-buren-2016/
LOCATION:Lisse
CATEGORIES:loop steelband
END:VEVENT
BEGIN:VEVENT
DTSTART;TZID=UTC:20160427T100000
DTEND;TZID=UTC:20160427T100000
DTSTAMP:20260419T215838
CREATED:20190130T130915Z
LAST-MODIFIED:20190130T130915Z
UID:11161-1461751200-1461751200@steelband-tavenu.nl
SUMMARY:Koningsdag 2016
DESCRIPTION:
URL:http://steelband-tavenu.nl/tourschema/koningsdag-2016/
LOCATION:De Kwakel – centrum
CATEGORIES:loop steelband
END:VEVENT
BEGIN:VEVENT
DTSTART;TZID=UTC:20160417T160000
DTEND;TZID=UTC:20160417T160000
DTSTAMP:20260419T215838
CREATED:20190130T130811Z
LAST-MODIFIED:20190130T130811Z
UID:11159-1460908800-1460908800@steelband-tavenu.nl
SUMMARY:Huldiging selectie Legmeervogels
DESCRIPTION:
URL:http://steelband-tavenu.nl/tourschema/huldiging-selectie-legmeervogels/
LOCATION:Uithoorn
CATEGORIES:loop steelband
END:VEVENT
BEGIN:VEVENT
DTSTART;TZID=UTC:20150704T190000
DTEND;TZID=UTC:20150704T190000
DTSTAMP:20260419T215838
CREATED:20200622T140800Z
LAST-MODIFIED:20200622T140800Z
UID:11660-1436036400-1436036400@steelband-tavenu.nl
SUMMARY:Besloten feestje
DESCRIPTION:
URL:http://steelband-tavenu.nl/tourschema/besloten-feestje/
LOCATION:Leiden
CATEGORIES:loop steelband
END:VEVENT
BEGIN:VEVENT
DTSTART;TZID=UTC:20150626T190000
DTEND;TZID=UTC:20150626T190000
DTSTAMP:20260419T215838
CREATED:20200622T140655Z
LAST-MODIFIED:20200622T140655Z
UID:11657-1435345200-1435345200@steelband-tavenu.nl
SUMMARY:Zomermarkt Nieuwveen
DESCRIPTION:
URL:http://steelband-tavenu.nl/tourschema/zomermarkt-nieuwveen/
LOCATION:Nieuwveen
CATEGORIES:loop steelband
END:VEVENT
BEGIN:VEVENT
DTSTART;TZID=UTC:20150620T160000
DTEND;TZID=UTC:20150620T160000
DTSTAMP:20260419T215838
CREATED:20200622T140439Z
LAST-MODIFIED:20200622T140439Z
UID:11652-1434816000-1434816000@steelband-tavenu.nl
SUMMARY:Promotie Actie AH Amstelplein
DESCRIPTION:
URL:http://steelband-tavenu.nl/tourschema/promotie-actie-ah-amstelplein/
LOCATION:Uithoorn – Amstelplein
CATEGORIES:loop steelband
END:VEVENT
BEGIN:VEVENT
DTSTART;TZID=UTC:20150530T130000
DTEND;TZID=UTC:20150530T130000
DTSTAMP:20260419T215838
CREATED:20200622T140247Z
LAST-MODIFIED:20200622T140247Z
UID:11649-1432990800-1432990800@steelband-tavenu.nl
SUMMARY:Opening nieuwe winkel Duo Plant
DESCRIPTION:
URL:http://steelband-tavenu.nl/tourschema/opening-nieuwe-winkel-duo-plant/
LOCATION:Uithoorn – oude dorp
CATEGORIES:loop steelband
END:VEVENT
BEGIN:VEVENT
DTSTART;TZID=UTC:20150427T100000
DTEND;TZID=UTC:20150427T100000
DTSTAMP:20260419T215838
CREATED:20200622T135844Z
LAST-MODIFIED:20200622T140039Z
UID:11647-1430128800-1430128800@steelband-tavenu.nl
SUMMARY:Koningsdag 2015
DESCRIPTION:
URL:http://steelband-tavenu.nl/tourschema/koningsdag-2015/
LOCATION:De Kwakel – centrum
CATEGORIES:loop steelband
END:VEVENT
BEGIN:VEVENT
DTSTART;TZID=UTC:20150314T200000
DTEND;TZID=UTC:20150314T210000
DTSTAMP:20260419T215838
CREATED:20200622T135610Z
LAST-MODIFIED:20200630T134420Z
UID:11643-1426363200-1426366800@steelband-tavenu.nl
SUMMARY:Verjaardagsfeest 60-jarige
DESCRIPTION:verrassingsfeestje voor Jan
URL:http://steelband-tavenu.nl/tourschema/verjaardagsfeest-60-jarige/
LOCATION:Vrouwenakker
CATEGORIES:loop steelband
END:VEVENT
BEGIN:VEVENT
DTSTART;TZID=UTC:20140816T080000
DTEND;TZID=UTC:20140816T233000
DTSTAMP:20260419T215838
CREATED:20200630T133002Z
LAST-MODIFIED:20200630T133002Z
UID:11702-1408176000-1408231800@steelband-tavenu.nl
SUMMARY:Tavenu Trein Tour
DESCRIPTION:treinreis van Hoofddorp naar Groningen met tussenstops om te spelen in:\n– Amsterdam CS\n– Almere Centrum\n– Lelystad\n– Zwolle\n– Assen\n– Groningen
URL:http://steelband-tavenu.nl/tourschema/tavenu-trein-tour/
LOCATION:Trein van Hoofddorp naar Groningen
CATEGORIES:loop steelband
END:VEVENT
BEGIN:VEVENT
DTSTART;TZID=UTC:20140607T130000
DTEND;TZID=UTC:20140607T130000
DTSTAMP:20260419T215838
CREATED:20200630T120623Z
LAST-MODIFIED:20200630T120623Z
UID:11690-1402146000-1402146000@steelband-tavenu.nl
SUMMARY:Shanty Festival
DESCRIPTION:
URL:http://steelband-tavenu.nl/tourschema/shanty-festival/
LOCATION:Lunteren
CATEGORIES:loop steelband
END:VEVENT
BEGIN:VEVENT
DTSTART;TZID=UTC:20140323T150000
DTEND;TZID=UTC:20140323T150000
DTSTAMP:20260419T215838
CREATED:20200630T120124Z
LAST-MODIFIED:20200630T134612Z
UID:11683-1395586800-1395586800@steelband-tavenu.nl
SUMMARY:Privé feestje
DESCRIPTION:feestje voor Marty
URL:http://steelband-tavenu.nl/tourschema/prive-feestje/
LOCATION:De Kwakel – dorpshuis
CATEGORIES:loop steelband
END:VEVENT
BEGIN:VEVENT
DTSTART;TZID=UTC:20140118T200000
DTEND;TZID=UTC:20140118T200000
DTSTAMP:20260419T215838
CREATED:20200630T115655Z
LAST-MODIFIED:20200630T115655Z
UID:11680-1390075200-1390075200@steelband-tavenu.nl
SUMMARY:Hofkapellen Festival
DESCRIPTION:
URL:http://steelband-tavenu.nl/tourschema/hofkapellen-festival/
LOCATION:Achterveld\, Nederland
CATEGORIES:loop steelband
END:VEVENT
END:VCALENDAR