BEGIN:VCALENDAR
VERSION:2.0
PRODID:-//Steelband Tavenu - ECPv6.15.13.1//NONSGML v1.0//EN
CALSCALE:GREGORIAN
METHOD:PUBLISH
X-WR-CALNAME:Steelband Tavenu
X-ORIGINAL-URL:http://steelband-tavenu.nl
X-WR-CALDESC:Evenementen voor Steelband Tavenu
REFRESH-INTERVAL;VALUE=DURATION:PT1H
X-Robots-Tag:noindex
X-PUBLISHED-TTL:PT1H
BEGIN:VTIMEZONE
TZID:UTC
BEGIN:STANDARD
TZOFFSETFROM:+0000
TZOFFSETTO:+0000
TZNAME:UTC
DTSTART:20180101T000000
END:STANDARD
END:VTIMEZONE
BEGIN:VTIMEZONE
TZID:Europe/Amsterdam
BEGIN:DAYLIGHT
TZOFFSETFROM:+0100
TZOFFSETTO:+0200
TZNAME:CEST
DTSTART:20200329T010000
END:DAYLIGHT
BEGIN:STANDARD
TZOFFSETFROM:+0200
TZOFFSETTO:+0100
TZNAME:CET
DTSTART:20201025T010000
END:STANDARD
BEGIN:DAYLIGHT
TZOFFSETFROM:+0100
TZOFFSETTO:+0200
TZNAME:CEST
DTSTART:20210328T010000
END:DAYLIGHT
BEGIN:STANDARD
TZOFFSETFROM:+0200
TZOFFSETTO:+0100
TZNAME:CET
DTSTART:20211031T010000
END:STANDARD
BEGIN:DAYLIGHT
TZOFFSETFROM:+0100
TZOFFSETTO:+0200
TZNAME:CEST
DTSTART:20220327T010000
END:DAYLIGHT
BEGIN:STANDARD
TZOFFSETFROM:+0200
TZOFFSETTO:+0100
TZNAME:CET
DTSTART:20221030T010000
END:STANDARD
END:VTIMEZONE
BEGIN:VEVENT
DTSTART;TZID=UTC:20231119T113000
DTEND;TZID=UTC:20231119T133000
DTSTAMP:20260419T171549
CREATED:20240524T083705Z
LAST-MODIFIED:20240524T083705Z
UID:12074-1700393400-1700400600@steelband-tavenu.nl
SUMMARY:De Ronde Venen Marathon 2023
DESCRIPTION:
URL:http://steelband-tavenu.nl/tourschema/de-ronde-venen-marathon-2023/
LOCATION:Amstelhoek
CATEGORIES:loop steelband
END:VEVENT
BEGIN:VEVENT
DTSTART;TZID=UTC:20230812T180000
DTEND;TZID=UTC:20230812T183000
DTSTAMP:20260419T171549
CREATED:20230531T051227Z
LAST-MODIFIED:20230531T051227Z
UID:11960-1691863200-1691865000@steelband-tavenu.nl
SUMMARY:Privé feestje
DESCRIPTION:
URL:http://steelband-tavenu.nl/tourschema/prive-feestje-4/
LOCATION:Vrouwenakker
CATEGORIES:loop steelband
END:VEVENT
BEGIN:VEVENT
DTSTART;TZID=UTC:20230708T140000
DTEND;TZID=UTC:20230708T140000
DTSTAMP:20260419T171549
CREATED:20230531T050936Z
LAST-MODIFIED:20230531T050936Z
UID:11956-1688824800-1688824800@steelband-tavenu.nl
SUMMARY:Zomermarkt
DESCRIPTION:
URL:http://steelband-tavenu.nl/tourschema/zomermarkt/
LOCATION:Uithoorn Het Hoge Heem
CATEGORIES:loop steelband
END:VEVENT
BEGIN:VEVENT
DTSTART;TZID=UTC:20230511T183000
DTEND;TZID=UTC:20230511T200000
DTSTAMP:20260419T171549
CREATED:20230531T050642Z
LAST-MODIFIED:20230531T050642Z
UID:11954-1683829800-1683835200@steelband-tavenu.nl
SUMMARY:Avond 4 daagse Amsterdamse Bos 2023
DESCRIPTION:
URL:http://steelband-tavenu.nl/tourschema/avond-4-daagse-amsterdamse-bos-2023/
LOCATION:Amsterdamse Bos
CATEGORIES:loop steelband
END:VEVENT
BEGIN:VEVENT
DTSTART;TZID=UTC:20230427T100000
DTEND;TZID=UTC:20230427T113000
DTSTAMP:20260419T171549
CREATED:20240524T084538Z
LAST-MODIFIED:20240524T084538Z
UID:12082-1682589600-1682595000@steelband-tavenu.nl
SUMMARY:Koningsdag 2023
DESCRIPTION:
URL:http://steelband-tavenu.nl/tourschema/koningsdag-2023/
LOCATION:De Kwakel – centrum
CATEGORIES:loop steelband
END:VEVENT
BEGIN:VEVENT
DTSTART;TZID=UTC:20230129T100000
DTEND;TZID=UTC:20230129T130000
DTSTAMP:20260419T171549
CREATED:20230531T052312Z
LAST-MODIFIED:20230531T052312Z
UID:11973-1674986400-1674997200@steelband-tavenu.nl
SUMMARY:Uithoorns Mooiste 2023
DESCRIPTION:
URL:http://steelband-tavenu.nl/tourschema/uithoorns-mooiste-2023/
LOCATION:Uithoorn
CATEGORIES:loop steelband
END:VEVENT
BEGIN:VEVENT
DTSTART;TZID=UTC:20230128T200000
DTEND;TZID=UTC:20230128T203000
DTSTAMP:20260419T171549
CREATED:20230531T052620Z
LAST-MODIFIED:20230531T052911Z
UID:11975-1674936000-1674937800@steelband-tavenu.nl
SUMMARY:Privé feestje
DESCRIPTION:
URL:http://steelband-tavenu.nl/tourschema/prive-feestje-6/
LOCATION:Bovenkerk – De Kegel
CATEGORIES:loop steelband
END:VEVENT
BEGIN:VEVENT
DTSTART;TZID=UTC:20221120T100000
DTEND;TZID=UTC:20221120T140000
DTSTAMP:20260419T171549
CREATED:20220825T070004Z
LAST-MODIFIED:20220825T070004Z
UID:11936-1668938400-1668952800@steelband-tavenu.nl
SUMMARY:De Ronde Venen Marathon 2022
DESCRIPTION:
URL:http://steelband-tavenu.nl/tourschema/de-ronde-venen-marathon-2022/
LOCATION:Amstelhoek
CATEGORIES:loop steelband
END:VEVENT
BEGIN:VEVENT
DTSTART;TZID=UTC:20220702T140000
DTEND;TZID=UTC:20220702T153000
DTSTAMP:20260419T171549
CREATED:20220630T125903Z
LAST-MODIFIED:20220630T125903Z
UID:11924-1656770400-1656775800@steelband-tavenu.nl
SUMMARY:Zomermarkt Het Hoge Heem
DESCRIPTION:
URL:http://steelband-tavenu.nl/tourschema/zomermarkt-het-hoge-heem/
LOCATION:Uithoorn Het Hoge Heem
CATEGORIES:loop steelband
END:VEVENT
BEGIN:VEVENT
DTSTART;TZID=UTC:20220519T184500
DTEND;TZID=UTC:20220519T200000
DTSTAMP:20260419T171549
CREATED:20220512T073136Z
LAST-MODIFIED:20220512T073136Z
UID:11908-1652985900-1652990400@steelband-tavenu.nl
SUMMARY:Avondvierdaagse Amsterdamse Bos
DESCRIPTION:
URL:http://steelband-tavenu.nl/tourschema/avondvierdaagse-amsterdamse-bos/
LOCATION:Amsterdamse Bos
CATEGORIES:loop steelband
END:VEVENT
BEGIN:VEVENT
DTSTART;TZID=UTC:20220511T190000
DTEND;TZID=UTC:20220511T200000
DTSTAMP:20260419T171549
CREATED:20220512T073026Z
LAST-MODIFIED:20220512T073026Z
UID:11906-1652295600-1652299200@steelband-tavenu.nl
SUMMARY:Donateurs Actie 2022
DESCRIPTION:
URL:http://steelband-tavenu.nl/tourschema/donateurs-actie-2022/
LOCATION:De Kwakel
CATEGORIES:loop steelband
END:VEVENT
BEGIN:VEVENT
DTSTART;TZID=UTC:20220427T094500
DTEND;TZID=UTC:20220427T111500
DTSTAMP:20260419T171549
CREATED:20220512T072931Z
LAST-MODIFIED:20220512T072931Z
UID:11904-1651052700-1651058100@steelband-tavenu.nl
SUMMARY:Koningsdag 2022
DESCRIPTION:
URL:http://steelband-tavenu.nl/tourschema/koningsdag-2022/
LOCATION:De Kwakel – centrum
CATEGORIES:loop steelband
END:VEVENT
BEGIN:VEVENT
DTSTART;TZID=UTC:20220424T100000
DTEND;TZID=UTC:20220424T123000
DTSTAMP:20260419T171549
CREATED:20220512T072400Z
LAST-MODIFIED:20220512T072400Z
UID:11902-1650794400-1650803400@steelband-tavenu.nl
SUMMARY:Uithoorns Mooiste 2022
DESCRIPTION:
URL:http://steelband-tavenu.nl/tourschema/uithoorns-mooiste-2022/
LOCATION:Uithoorn
CATEGORIES:loop steelband
END:VEVENT
BEGIN:VEVENT
DTSTART;TZID=UTC:20211121T110000
DTEND;TZID=UTC:20211121T150000
DTSTAMP:20260419T171549
CREATED:20210916T112000Z
LAST-MODIFIED:20210916T112000Z
UID:11820-1637492400-1637506800@steelband-tavenu.nl
SUMMARY:Marathon De Ronde Venen 2021
DESCRIPTION:
URL:http://steelband-tavenu.nl/tourschema/marathon-de-ronde-venen-2021/
LOCATION:Mijdrecht
CATEGORIES:loop steelband
END:VEVENT
BEGIN:VEVENT
DTSTART;TZID=UTC:20211031T140000
DTEND;TZID=UTC:20211031T160000
DTSTAMP:20260419T171549
CREATED:20210916T111534Z
LAST-MODIFIED:20210916T111534Z
UID:11814-1635688800-1635696000@steelband-tavenu.nl
SUMMARY:Concert Tavenu
DESCRIPTION:
URL:http://steelband-tavenu.nl/tourschema/concert-tavenu/
LOCATION:De Kwakel – dorpshuis
CATEGORIES:loop steelband
END:VEVENT
BEGIN:VEVENT
DTSTART;TZID=Europe/Amsterdam:20211002T140000
DTEND;TZID=Europe/Amsterdam:20211002T150000
DTSTAMP:20260419T171549
CREATED:20210916T111405Z
LAST-MODIFIED:20211001T130532Z
UID:11811-1633183200-1633186800@steelband-tavenu.nl
SUMMARY:Cultuurdag
DESCRIPTION:
URL:http://steelband-tavenu.nl/tourschema/cultuurdag/
LOCATION:Uithoorn – Alkwin Kollege
CATEGORIES:loop steelband
END:VEVENT
BEGIN:VEVENT
DTSTART;TZID=UTC:20200916T190000
DTEND;TZID=UTC:20200916T190000
DTSTAMP:20260419T171549
CREATED:20210130T175423Z
LAST-MODIFIED:20210130T175423Z
UID:11779-1600282800-1600282800@steelband-tavenu.nl
SUMMARY:Corona optreden Hortensialaan
DESCRIPTION:
URL:http://steelband-tavenu.nl/tourschema/corona-optreden-hortensialaan/
LOCATION:De Kwakel – Hortensialaan
CATEGORIES:loop steelband
END:VEVENT
BEGIN:VEVENT
DTSTART;TZID=UTC:20200902T190000
DTEND;TZID=UTC:20200902T190000
DTSTAMP:20260419T171549
CREATED:20210130T175313Z
LAST-MODIFIED:20210130T175313Z
UID:11776-1599073200-1599073200@steelband-tavenu.nl
SUMMARY:Corona optreden Traverse
DESCRIPTION:
URL:http://steelband-tavenu.nl/tourschema/corona-optreden-traverse/
LOCATION:De Kwakel – Traverse
CATEGORIES:loop steelband
END:VEVENT
BEGIN:VEVENT
DTSTART;TZID=UTC:20200620T200000
DTEND;TZID=UTC:20200620T233000
DTSTAMP:20260419T171549
CREATED:20200301T161926Z
LAST-MODIFIED:20200622T134235Z
UID:11481-1592683200-1592695800@steelband-tavenu.nl
SUMMARY:Midzomeravond Festival 2020 - geannuleerd ivm Corona
DESCRIPTION:
URL:http://steelband-tavenu.nl/tourschema/midzomeravond-festival-2020/
LOCATION:De Kwakel – centrum
CATEGORIES:loop steelband,steelband
END:VEVENT
BEGIN:VEVENT
DTSTART;TZID=UTC:20200514T183000
DTEND;TZID=UTC:20200514T200000
DTSTAMP:20260419T171549
CREATED:20191210T205448Z
LAST-MODIFIED:20200622T134257Z
UID:11431-1589481000-1589486400@steelband-tavenu.nl
SUMMARY:Avond 4-daagse Amsterdamse Bos - geannuleerd ivm Corona
DESCRIPTION:
URL:http://steelband-tavenu.nl/tourschema/avond-4-daagse-amsterdamse-bos/
LOCATION:Amsterdamse Bos
CATEGORIES:loop steelband
END:VEVENT
BEGIN:VEVENT
DTSTART;TZID=UTC:20200427T100000
DTEND;TZID=UTC:20200427T113000
DTSTAMP:20260419T171549
CREATED:20200301T162306Z
LAST-MODIFIED:20200622T134306Z
UID:11484-1587981600-1587987000@steelband-tavenu.nl
SUMMARY:Koningsdag 2020 - geannuleerd ivm Corona
DESCRIPTION:
URL:http://steelband-tavenu.nl/tourschema/koningsdag-2020/
LOCATION:De Kwakel – centrum
CATEGORIES:loop steelband
END:VEVENT
BEGIN:VEVENT
DTSTART;TZID=UTC:20200321T140000
DTEND;TZID=UTC:20200321T153000
DTSTAMP:20260419T171549
CREATED:20200301T161804Z
LAST-MODIFIED:20200622T134317Z
UID:11479-1584799200-1584804600@steelband-tavenu.nl
SUMMARY:Fancy Fair Basisschool de Zon - geannuleerd ivm Corona
DESCRIPTION:
URL:http://steelband-tavenu.nl/tourschema/fancy-fair-basisschool-de-zon/
LOCATION:De Kwakel – basisschool De Zon
CATEGORIES:loop steelband
END:VEVENT
BEGIN:VEVENT
DTSTART;TZID=UTC:20200126T103000
DTEND;TZID=UTC:20200126T103000
DTSTAMP:20260419T171549
CREATED:20191210T205305Z
LAST-MODIFIED:20191210T205305Z
UID:11429-1580034600-1580034600@steelband-tavenu.nl
SUMMARY:Uithoorns Mooiste 2020
DESCRIPTION:
URL:http://steelband-tavenu.nl/tourschema/uithoorns-mooiste-2020/
LOCATION:Uithoorn
CATEGORIES:loop steelband
END:VEVENT
BEGIN:VEVENT
DTSTART;TZID=UTC:20191214T183000
DTEND;TZID=UTC:20191214T190000
DTSTAMP:20260419T171549
CREATED:20191210T205003Z
LAST-MODIFIED:20191210T205003Z
UID:11424-1576348200-1576350000@steelband-tavenu.nl
SUMMARY:Kerstconcert 2019
DESCRIPTION:
URL:http://steelband-tavenu.nl/tourschema/kerstconcert-2019/
LOCATION:De Kwakel – kerkplein
CATEGORIES:loop steelband
END:VEVENT
BEGIN:VEVENT
DTSTART;TZID=UTC:20191213T200000
DTEND;TZID=UTC:20191213T200000
DTSTAMP:20260419T171549
CREATED:20191210T205124Z
LAST-MODIFIED:20191210T205151Z
UID:11427-1576267200-1576267200@steelband-tavenu.nl
SUMMARY:Kerstborrel 2019
DESCRIPTION:
URL:http://steelband-tavenu.nl/tourschema/kerstborrel-2019/
LOCATION:De Kwakel
CATEGORIES:loop steelband
END:VEVENT
BEGIN:VEVENT
DTSTART;TZID=UTC:20191123T200000
DTEND;TZID=UTC:20191123T210000
DTSTAMP:20260419T171549
CREATED:20191210T204734Z
LAST-MODIFIED:20191210T204734Z
UID:11419-1574539200-1574542800@steelband-tavenu.nl
SUMMARY:Feestavond Feestcomité
DESCRIPTION:
URL:http://steelband-tavenu.nl/tourschema/feestavond-feestcomite/
LOCATION:Aalsmeer – the Beach
CATEGORIES:loop steelband
END:VEVENT
BEGIN:VEVENT
DTSTART;TZID=UTC:20190515T190000
DTEND;TZID=UTC:20190515T203000
DTSTAMP:20260419T171549
CREATED:20191020T214402Z
LAST-MODIFIED:20191020T215829Z
UID:11414-1557946800-1557952200@steelband-tavenu.nl
SUMMARY:Donateursactie
DESCRIPTION:
URL:http://steelband-tavenu.nl/tourschema/donateursactie/
LOCATION:De Kwakel
CATEGORIES:loop steelband
END:VEVENT
BEGIN:VEVENT
DTSTART;TZID=UTC:20190427T100000
DTEND;TZID=UTC:20190427T100000
DTSTAMP:20260419T171549
CREATED:20190425T203439Z
LAST-MODIFIED:20190425T203439Z
UID:11319-1556359200-1556359200@steelband-tavenu.nl
SUMMARY:Koningsdag 2019
DESCRIPTION:
URL:http://steelband-tavenu.nl/tourschema/koningsdag-2019/
LOCATION:De Kwakel – centrum
CATEGORIES:loop steelband
END:VEVENT
BEGIN:VEVENT
DTSTART;TZID=UTC:20190412T190000
DTEND;TZID=UTC:20190412T200000
DTSTAMP:20260419T171549
CREATED:20190425T203234Z
LAST-MODIFIED:20191020T215917Z
UID:11316-1555095600-1555099200@steelband-tavenu.nl
SUMMARY:KiKaRow
DESCRIPTION:
URL:http://steelband-tavenu.nl/tourschema/kikarow/
LOCATION:Uithoorn\, Michiel de Ruyter roei en kano vereniging
CATEGORIES:loop steelband
END:VEVENT
BEGIN:VEVENT
DTSTART;TZID=UTC:20190316T220000
DTEND;TZID=UTC:20190316T220000
DTSTAMP:20260419T171549
CREATED:20190310T202339Z
LAST-MODIFIED:20190310T202339Z
UID:11269-1552773600-1552773600@steelband-tavenu.nl
SUMMARY:Flowercup
DESCRIPTION:
URL:http://steelband-tavenu.nl/tourschema/flowercup/
LOCATION:Aalsmeer – sporthal De Bloemhof
CATEGORIES:loop steelband
END:VEVENT
END:VCALENDAR