BEGIN:VCALENDAR
VERSION:2.0
PRODID:-//Steelband Tavenu - ECPv6.15.13.1//NONSGML v1.0//EN
CALSCALE:GREGORIAN
METHOD:PUBLISH
X-ORIGINAL-URL:http://steelband-tavenu.nl
X-WR-CALDESC:Evenementen voor Steelband Tavenu
REFRESH-INTERVAL;VALUE=DURATION:PT1H
X-Robots-Tag:noindex
X-PUBLISHED-TTL:PT1H
BEGIN:VTIMEZONE
TZID:UTC
BEGIN:STANDARD
TZOFFSETFROM:+0000
TZOFFSETTO:+0000
TZNAME:UTC
DTSTART:20230101T000000
END:STANDARD
END:VTIMEZONE
BEGIN:VEVENT
DTSTART;TZID=UTC:20260415T170000
DTEND;TZID=UTC:20260415T200000
DTSTAMP:20260419T124736
CREATED:20260312T184859Z
LAST-MODIFIED:20260312T184859Z
UID:12375-1776272400-1776283200@steelband-tavenu.nl
SUMMARY:Pensioneringsfeestje
DESCRIPTION:
URL:http://steelband-tavenu.nl/tourschema/pensioneringsfeestje/
LOCATION:Uithoorn
CATEGORIES:loop steelband
END:VEVENT
BEGIN:VEVENT
DTSTART;TZID=UTC:20260329T143000
DTEND;TZID=UTC:20260329T163000
DTSTAMP:20260419T124736
CREATED:20260212T182735Z
LAST-MODIFIED:20260212T182735Z
UID:12359-1774794600-1774801800@steelband-tavenu.nl
SUMMARY:Open Podium Tavenu 2026
DESCRIPTION:
URL:http://steelband-tavenu.nl/tourschema/open-podium-tavenu-2026/
LOCATION:De Kwakel – dorpshuis
CATEGORIES:loop steelband
END:VEVENT
BEGIN:VEVENT
DTSTART;TZID=UTC:20260324T190000
DTEND;TZID=UTC:20260324T193000
DTSTAMP:20260419T124736
CREATED:20260312T184754Z
LAST-MODIFIED:20260312T184754Z
UID:12373-1774378800-1774380600@steelband-tavenu.nl
SUMMARY:Opening nieuwe supermarkt
DESCRIPTION:
URL:http://steelband-tavenu.nl/tourschema/opening-nieuwe-supermarkt/
LOCATION:De Kwakel – centrum
CATEGORIES:loop steelband
END:VEVENT
BEGIN:VEVENT
DTSTART;TZID=UTC:20260125T103000
DTEND;TZID=UTC:20260125T130000
DTSTAMP:20260419T124736
CREATED:20260212T182336Z
LAST-MODIFIED:20260212T182336Z
UID:12351-1769337000-1769346000@steelband-tavenu.nl
SUMMARY:Uithoorns Mooiste 2026
DESCRIPTION:
URL:http://steelband-tavenu.nl/tourschema/uithoorns-mooiste-2026/
LOCATION:Uithoorn
CATEGORIES:loop steelband
END:VEVENT
BEGIN:VEVENT
DTSTART;TZID=UTC:20251213T213000
DTEND;TZID=UTC:20251213T220000
DTSTAMP:20260419T124736
CREATED:20250318T194727Z
LAST-MODIFIED:20260212T182216Z
UID:12222-1765661400-1765663200@steelband-tavenu.nl
SUMMARY:Verrassings Optreden op 60e verjaardag
DESCRIPTION:
URL:http://steelband-tavenu.nl/tourschema/verrassings-optreden-2/
LOCATION:De Kwakel – dorpshuis
CATEGORIES:loop steelband
END:VEVENT
BEGIN:VEVENT
DTSTART;TZID=UTC:20251116T113000
DTEND;TZID=UTC:20251116T140000
DTSTAMP:20260419T124736
CREATED:20250209T150031Z
LAST-MODIFIED:20250209T150031Z
UID:12156-1763292600-1763301600@steelband-tavenu.nl
SUMMARY:Ronde Venen Marathon 2025
DESCRIPTION:
URL:http://steelband-tavenu.nl/tourschema/ronde-venen-marathon-2025/
LOCATION:Amstelhoek
CATEGORIES:loop steelband
END:VEVENT
BEGIN:VEVENT
DTSTART;TZID=UTC:20251110T220000
DTEND;TZID=UTC:20251110T223000
DTSTAMP:20260419T124736
CREATED:20260212T182032Z
LAST-MODIFIED:20260212T182032Z
UID:12348-1762812000-1762813800@steelband-tavenu.nl
SUMMARY:Uitzwaaien Burgemeester De Ronde Venen
DESCRIPTION:
URL:http://steelband-tavenu.nl/tourschema/uitzwaaien-burgemeester-de-ronde-venen/
LOCATION:Mijdrecht gemeentehuis\, Netherlands
CATEGORIES:loop steelband
END:VEVENT
BEGIN:VEVENT
DTSTART;TZID=UTC:20251023T170000
DTEND;TZID=UTC:20251023T173000
DTSTAMP:20260419T124736
CREATED:20260212T181904Z
LAST-MODIFIED:20260212T181904Z
UID:12346-1761238800-1761240600@steelband-tavenu.nl
SUMMARY:Pensionering Koos
DESCRIPTION:
URL:http://steelband-tavenu.nl/tourschema/pensionering-koos/
LOCATION:Mijdrecht gemeentehuis\, Netherlands
CATEGORIES:loop steelband
END:VEVENT
BEGIN:VEVENT
DTSTART;TZID=UTC:20250927T130000
DTEND;TZID=UTC:20250927T153000
DTSTAMP:20260419T124736
CREATED:20250831T085826Z
LAST-MODIFIED:20250831T085826Z
UID:12246-1758978000-1758987000@steelband-tavenu.nl
SUMMARY:Burendag 2025
DESCRIPTION:
URL:http://steelband-tavenu.nl/tourschema/burendag-2025/
LOCATION:Amstelveen
CATEGORIES:loop steelband
END:VEVENT
BEGIN:VEVENT
DTSTART;TZID=UTC:20250831T153000
DTEND;TZID=UTC:20250831T160000
DTSTAMP:20260419T124736
CREATED:20250414T180641Z
LAST-MODIFIED:20250414T180641Z
UID:12238-1756654200-1756656000@steelband-tavenu.nl
SUMMARY:Privé feestje Uithoorn
DESCRIPTION:
URL:http://steelband-tavenu.nl/tourschema/prive-feestje-uithoorn/
LOCATION:Uithoorn
CATEGORIES:loop steelband
END:VEVENT
BEGIN:VEVENT
DTSTART;TZID=UTC:20250821T183000
DTEND;TZID=UTC:20250821T190000
DTSTAMP:20260419T124736
CREATED:20250904T095215Z
LAST-MODIFIED:20250904T095215Z
UID:12248-1755801000-1755802800@steelband-tavenu.nl
SUMMARY:Feestje Het Hoge Heem
DESCRIPTION:
URL:http://steelband-tavenu.nl/tourschema/feestje-het-hoge-heem/
LOCATION:Uithoorn Het Hoge Heem
CATEGORIES:loop steelband
END:VEVENT
BEGIN:VEVENT
DTSTART;TZID=UTC:20250719T150000
DTEND;TZID=UTC:20250719T170000
DTSTAMP:20260419T124736
CREATED:20250330T131620Z
LAST-MODIFIED:20250330T131620Z
UID:12226-1752937200-1752944400@steelband-tavenu.nl
SUMMARY:MAMJO Festival Uithoorn
DESCRIPTION:
URL:http://steelband-tavenu.nl/tourschema/mamjo-festival-uithoorn/
LOCATION:Uithoorn De Scheg\, Netherlands
CATEGORIES:loop steelband
END:VEVENT
BEGIN:VEVENT
DTSTART;TZID=UTC:20250614T140000
DTEND;TZID=UTC:20250614T160000
DTSTAMP:20260419T124736
CREATED:20250209T150922Z
LAST-MODIFIED:20250209T150922Z
UID:12158-1749909600-1749916800@steelband-tavenu.nl
SUMMARY:Zomermarkt Het Hoge Heem 2025
DESCRIPTION:
URL:http://steelband-tavenu.nl/tourschema/zomermarkt-het-hoge-heem-2025/
LOCATION:Uithoorn Het Hoge Heem
CATEGORIES:loop steelband
END:VEVENT
BEGIN:VEVENT
DTSTART;TZID=UTC:20250601T133000
DTEND;TZID=UTC:20250601T160000
DTSTAMP:20260419T124736
CREATED:20250313T202759Z
LAST-MODIFIED:20250330T131719Z
UID:12219-1748784600-1748793600@steelband-tavenu.nl
SUMMARY:Rainbowride 2025 Mijdrecht
DESCRIPTION:
URL:http://steelband-tavenu.nl/tourschema/ride-for-the-roses-2025-mijdrecht/
LOCATION:Mijdrecht gemeentehuis\, Netherlands
CATEGORIES:loop steelband
END:VEVENT
BEGIN:VEVENT
DTSTART;TZID=UTC:20250426T100000
DTEND;TZID=UTC:20250426T110000
DTSTAMP:20260419T124736
CREATED:20250209T145409Z
LAST-MODIFIED:20250209T145409Z
UID:12142-1745661600-1745665200@steelband-tavenu.nl
SUMMARY:Koningsdag De Kwakel 2025
DESCRIPTION:
URL:http://steelband-tavenu.nl/tourschema/koningsdag-de-kwakel-2025/
LOCATION:De Kwakel – centrum
CATEGORIES:loop steelband
END:VEVENT
BEGIN:VEVENT
DTSTART;TZID=UTC:20250309T130000
DTEND;TZID=UTC:20250309T153000
DTSTAMP:20260419T124736
CREATED:20250209T145321Z
LAST-MODIFIED:20250215T154403Z
UID:12140-1741525200-1741534200@steelband-tavenu.nl
SUMMARY:Open Podium Tavenu 2025
DESCRIPTION:loopsteelband: Benito – Bella Ciao – Limbo Italiano\nConny & de Rekels: vrolijke medley
URL:http://steelband-tavenu.nl/tourschema/open-podium-tavenu-2025/
LOCATION:De Kwakel – dorpshuis
CATEGORIES:loop steelband
END:VEVENT
BEGIN:VEVENT
DTSTART;TZID=UTC:20250215T133000
DTEND;TZID=UTC:20250215T140000
DTSTAMP:20260419T124736
CREATED:20250209T143743Z
LAST-MODIFIED:20250209T143743Z
UID:12131-1739626200-1739628000@steelband-tavenu.nl
SUMMARY:Opening verbouwde Dorpshuis
DESCRIPTION:
URL:http://steelband-tavenu.nl/tourschema/opening-verbouwde-dorpshuis/
LOCATION:De Kwakel – dorpshuis
CATEGORIES:loop steelband
END:VEVENT
BEGIN:VEVENT
DTSTART;TZID=UTC:20250126T110000
DTEND;TZID=UTC:20250126T130000
DTSTAMP:20260419T124736
CREATED:20250209T142456Z
LAST-MODIFIED:20250209T142456Z
UID:12124-1737889200-1737896400@steelband-tavenu.nl
SUMMARY:Uithoorns Mooiste 2025
DESCRIPTION:
URL:http://steelband-tavenu.nl/tourschema/uithoorns-mooiste-2025/
LOCATION:Uithoorn
CATEGORIES:loop steelband
END:VEVENT
BEGIN:VEVENT
DTSTART;TZID=UTC:20241122T190000
DTEND;TZID=UTC:20241122T193000
DTSTAMP:20260419T124736
CREATED:20250209T142225Z
LAST-MODIFIED:20250209T142225Z
UID:12122-1732302000-1732303800@steelband-tavenu.nl
SUMMARY:Verrassingsoptreden Uithoorn
DESCRIPTION:onze drummer Frans 75 jaar
URL:http://steelband-tavenu.nl/tourschema/verrassingsoptreden-uithoorn/
LOCATION:Uithoorn
CATEGORIES:loop steelband
END:VEVENT
BEGIN:VEVENT
DTSTART;TZID=UTC:20241117T113000
DTEND;TZID=UTC:20241117T140000
DTSTAMP:20260419T124736
CREATED:20250209T141734Z
LAST-MODIFIED:20250209T141734Z
UID:12118-1731843000-1731852000@steelband-tavenu.nl
SUMMARY:Ronde Venen Marathon 2024
DESCRIPTION:
URL:http://steelband-tavenu.nl/tourschema/ronde-venen-marathon-2024/
LOCATION:Amstelhoek
CATEGORIES:loop steelband
END:VEVENT
BEGIN:VEVENT
DTSTART;TZID=UTC:20240817T150000
DTEND;TZID=UTC:20240817T170000
DTSTAMP:20260419T124736
CREATED:20250209T140334Z
LAST-MODIFIED:20250209T140334Z
UID:12113-1723906800-1723914000@steelband-tavenu.nl
SUMMARY:Verrassingsoptreden Dronten
DESCRIPTION:
URL:http://steelband-tavenu.nl/tourschema/verrassingsoptreden-dronten/
LOCATION:Dronten\, Netherlands
CATEGORIES:loop steelband
END:VEVENT
BEGIN:VEVENT
DTSTART;TZID=UTC:20240813T100000
DTEND;TZID=UTC:20240813T110000
DTSTAMP:20260419T124736
CREATED:20250209T140153Z
LAST-MODIFIED:20250209T140153Z
UID:12110-1723543200-1723546800@steelband-tavenu.nl
SUMMARY:Uitvaart Els
DESCRIPTION:afscheid van onze muzikante Els
URL:http://steelband-tavenu.nl/tourschema/uitvaart-els/
LOCATION:De Kwakel – Bouwens Uitvaart Centrum
CATEGORIES:loop steelband
END:VEVENT
BEGIN:VEVENT
DTSTART;TZID=UTC:20240706T140000
DTEND;TZID=UTC:20240706T160000
DTSTAMP:20260419T124736
CREATED:20250209T140008Z
LAST-MODIFIED:20250209T140008Z
UID:12108-1720274400-1720281600@steelband-tavenu.nl
SUMMARY:Zomermarkt Hoge Heem 2024
DESCRIPTION:
URL:http://steelband-tavenu.nl/tourschema/zomermarkt-hoge-heem-2024/
LOCATION:Uithoorn Het Hoge Heem
CATEGORIES:loop steelband
END:VEVENT
BEGIN:VEVENT
DTSTART;TZID=UTC:20240606T183000
DTEND;TZID=UTC:20240606T200000
DTSTAMP:20260419T124736
CREATED:20240524T085054Z
LAST-MODIFIED:20240524T085054Z
UID:12091-1717698600-1717704000@steelband-tavenu.nl
SUMMARY:Avond 4 Daagse Aalsmeer 2024
DESCRIPTION:
URL:http://steelband-tavenu.nl/tourschema/avond-4-daagse-aalsmeer-2024/
LOCATION:Aalsmeer – Waterlelie
CATEGORIES:loop steelband
END:VEVENT
BEGIN:VEVENT
DTSTART;TZID=UTC:20240516T183000
DTEND;TZID=UTC:20240516T200000
DTSTAMP:20260419T124736
CREATED:20240524T084936Z
LAST-MODIFIED:20240524T084936Z
UID:12089-1715884200-1715889600@steelband-tavenu.nl
SUMMARY:Avond 4 Daagse Amsterdamse Bos 2024
DESCRIPTION:
URL:http://steelband-tavenu.nl/tourschema/avond-4-daagse-amsterdamse-bos-2024/
LOCATION:Amsterdamse Bos
CATEGORIES:loop steelband
END:VEVENT
BEGIN:VEVENT
DTSTART;TZID=UTC:20240427T113000
DTEND;TZID=UTC:20240427T123000
DTSTAMP:20260419T124736
CREATED:20240524T084826Z
LAST-MODIFIED:20240524T084826Z
UID:12086-1714217400-1714221000@steelband-tavenu.nl
SUMMARY:Koningsdag 2024 Aalsmeer
DESCRIPTION:
URL:http://steelband-tavenu.nl/tourschema/koningsdag-2024-aalsmeer/
LOCATION:Aalsmeer – Zorgcengtrum Kloosterhof
CATEGORIES:loop steelband
END:VEVENT
BEGIN:VEVENT
DTSTART;TZID=UTC:20240427T100000
DTEND;TZID=UTC:20240427T110000
DTSTAMP:20260419T124736
CREATED:20240524T084635Z
LAST-MODIFIED:20240524T084635Z
UID:12084-1714212000-1714215600@steelband-tavenu.nl
SUMMARY:Koningsdag 2024 De Kwakel
DESCRIPTION:
URL:http://steelband-tavenu.nl/tourschema/koningsdag-2024-de-kwakel/
LOCATION:De Kwakel – centrum
CATEGORIES:loop steelband
END:VEVENT
BEGIN:VEVENT
DTSTART;TZID=UTC:20240303T130000
DTEND;TZID=UTC:20240303T153000
DTSTAMP:20260419T124736
CREATED:20250209T142806Z
LAST-MODIFIED:20250209T142806Z
UID:12126-1709470800-1709479800@steelband-tavenu.nl
SUMMARY:Open Podium Tavenu 2024
DESCRIPTION:the Lion sleeps tonight
URL:http://steelband-tavenu.nl/tourschema/open-podium-tavenu-2024/
LOCATION:De Kwakel – dorpshuis
CATEGORIES:loop steelband
END:VEVENT
BEGIN:VEVENT
DTSTART;TZID=UTC:20240225T150000
DTEND;TZID=UTC:20240225T160000
DTSTAMP:20260419T124736
CREATED:20240524T084057Z
LAST-MODIFIED:20240524T084057Z
UID:12076-1708873200-1708876800@steelband-tavenu.nl
SUMMARY:Verrassings Optreden
DESCRIPTION:
URL:http://steelband-tavenu.nl/tourschema/verrassings-optreden/
LOCATION:Wilnis
CATEGORIES:loop steelband
END:VEVENT
BEGIN:VEVENT
DTSTART;TZID=UTC:20240128T100000
DTEND;TZID=UTC:20240128T130000
DTSTAMP:20260419T124736
CREATED:20240524T084347Z
LAST-MODIFIED:20240524T084347Z
UID:12079-1706436000-1706446800@steelband-tavenu.nl
SUMMARY:Uithoorns Mooiste 2024
DESCRIPTION:
URL:http://steelband-tavenu.nl/tourschema/uithoorns-mooiste-2024/
LOCATION:Uithoorn
CATEGORIES:loop steelband
END:VEVENT
END:VCALENDAR