BEGIN:VCALENDAR
VERSION:2.0
PRODID:-//Steelband Tavenu - ECPv6.15.13.1//NONSGML v1.0//EN
CALSCALE:GREGORIAN
METHOD:PUBLISH
X-ORIGINAL-URL:http://steelband-tavenu.nl
X-WR-CALDESC:Evenementen voor Steelband Tavenu
REFRESH-INTERVAL;VALUE=DURATION:PT1H
X-Robots-Tag:noindex
X-PUBLISHED-TTL:PT1H
BEGIN:VTIMEZONE
TZID:UTC
BEGIN:STANDARD
TZOFFSETFROM:+0000
TZOFFSETTO:+0000
TZNAME:UTC
DTSTART:20240101T000000
END:STANDARD
END:VTIMEZONE
BEGIN:VEVENT
DTSTART;TZID=UTC:20251023T170000
DTEND;TZID=UTC:20251023T173000
DTSTAMP:20260419T212017
CREATED:20260212T181904Z
LAST-MODIFIED:20260212T181904Z
UID:12346-1761238800-1761240600@steelband-tavenu.nl
SUMMARY:Pensionering Koos
DESCRIPTION:
URL:http://steelband-tavenu.nl/tourschema/pensionering-koos/
LOCATION:Mijdrecht gemeentehuis\, Netherlands
CATEGORIES:loop steelband
END:VEVENT
END:VCALENDAR