BEGIN:VCALENDAR
VERSION:2.0
PRODID:-//Steelband Tavenu - ECPv6.15.13.1//NONSGML v1.0//EN
CALSCALE:GREGORIAN
METHOD:PUBLISH
X-WR-CALNAME:Steelband Tavenu
X-ORIGINAL-URL:http://steelband-tavenu.nl
X-WR-CALDESC:Evenementen voor Steelband Tavenu
REFRESH-INTERVAL;VALUE=DURATION:PT1H
X-Robots-Tag:noindex
X-PUBLISHED-TTL:PT1H
BEGIN:VTIMEZONE
TZID:UTC
BEGIN:STANDARD
TZOFFSETFROM:+0000
TZOFFSETTO:+0000
TZNAME:UTC
DTSTART:20220101T000000
END:STANDARD
END:VTIMEZONE
BEGIN:VEVENT
DTSTART;TZID=UTC:20230708T140000
DTEND;TZID=UTC:20230708T140000
DTSTAMP:20260425T131859
CREATED:20230531T050936Z
LAST-MODIFIED:20230531T050936Z
UID:11956-1688824800-1688824800@steelband-tavenu.nl
SUMMARY:Zomermarkt
DESCRIPTION:
URL:http://steelband-tavenu.nl/tourschema/zomermarkt/
LOCATION:Uithoorn Het Hoge Heem
CATEGORIES:loop steelband
END:VEVENT
END:VCALENDAR